BEGIN:VCALENDAR
VERSION:2.0
PRODID:-//Ortsgemeinde Kehrig - ECPv6.15.20//NONSGML v1.0//EN
CALSCALE:GREGORIAN
METHOD:PUBLISH
X-WR-CALNAME:Ortsgemeinde Kehrig
X-ORIGINAL-URL:https://kehrig-vordereifel.de
X-WR-CALDESC:Veranstaltungen für Ortsgemeinde Kehrig
REFRESH-INTERVAL;VALUE=DURATION:PT1H
X-Robots-Tag:noindex
X-PUBLISHED-TTL:PT1H
BEGIN:VTIMEZONE
TZID:Europe/Helsinki
BEGIN:DAYLIGHT
TZOFFSETFROM:+0200
TZOFFSETTO:+0300
TZNAME:EEST
DTSTART:20240331T010000
END:DAYLIGHT
BEGIN:STANDARD
TZOFFSETFROM:+0300
TZOFFSETTO:+0200
TZNAME:EET
DTSTART:20241027T010000
END:STANDARD
BEGIN:DAYLIGHT
TZOFFSETFROM:+0200
TZOFFSETTO:+0300
TZNAME:EEST
DTSTART:20250330T010000
END:DAYLIGHT
BEGIN:STANDARD
TZOFFSETFROM:+0300
TZOFFSETTO:+0200
TZNAME:EET
DTSTART:20251026T010000
END:STANDARD
BEGIN:DAYLIGHT
TZOFFSETFROM:+0200
TZOFFSETTO:+0300
TZNAME:EEST
DTSTART:20260329T010000
END:DAYLIGHT
BEGIN:STANDARD
TZOFFSETFROM:+0300
TZOFFSETTO:+0200
TZNAME:EET
DTSTART:20261025T010000
END:STANDARD
BEGIN:DAYLIGHT
TZOFFSETFROM:+0200
TZOFFSETTO:+0300
TZNAME:EEST
DTSTART:20270328T010000
END:DAYLIGHT
BEGIN:STANDARD
TZOFFSETFROM:+0300
TZOFFSETTO:+0200
TZNAME:EET
DTSTART:20271031T010000
END:STANDARD
END:VTIMEZONE
BEGIN:VEVENT
DTSTART;TZID=Europe/Helsinki:20260107T080000
DTEND;TZID=Europe/Helsinki:20260107T080000
DTSTAMP:20260422T132702
CREATED:20251222T092425Z
LAST-MODIFIED:20251222T122823Z
UID:4738-1767772800-1767772800@kehrig-vordereifel.de
SUMMARY:Frauenturnen „Lahme Pumps“
DESCRIPTION:Ansprechpartner siehe Frauenturnen | TuS-Kehrig
URL:https://kehrig-vordereifel.de/event/frauenturnen-lahme-pumps/
LOCATION:Elztalhalle\, An St. Wolfgang\, Kehrig\, RLP\, 56729
CATEGORIES:Sport,Training
ORGANIZER;CN="TuS 1926 Kehrig e.V.":MAILTO:mail@tus-kehrig.de
END:VEVENT
BEGIN:VEVENT
DTSTART;TZID=Europe/Helsinki:20260107T090000
DTEND;TZID=Europe/Helsinki:20260107T120000
DTSTAMP:20260422T132702
CREATED:20260112T095542Z
LAST-MODIFIED:20260112T095748Z
UID:4792-1767776400-1767787200@kehrig-vordereifel.de
SUMMARY:Caritas
DESCRIPTION:
URL:https://kehrig-vordereifel.de/event/caritas-2-2/
LOCATION:Elztalhalle\, An St. Wolfgang\, Kehrig\, RLP\, 56729
CATEGORIES:Sport,Training
END:VEVENT
BEGIN:VEVENT
DTSTART;TZID=Europe/Helsinki:20251126T160000
DTEND;TZID=Europe/Helsinki:20251126T170000
DTSTAMP:20260422T132702
CREATED:20251125T221729Z
LAST-MODIFIED:20251125T221729Z
UID:4676-1764172800-1764176400@kehrig-vordereifel.de
SUMMARY:Karnevalstanzgruppe Maxis
DESCRIPTION:
URL:https://kehrig-vordereifel.de/event/karnevalstanzgruppe-maxis/
LOCATION:Bürgerhaus\, Polcher Straße 1\, Kehrig\, 56729
CATEGORIES:Training
END:VEVENT
BEGIN:VEVENT
DTSTART;TZID=Europe/Helsinki:20260107T163000
DTEND;TZID=Europe/Helsinki:20260107T180000
DTSTAMP:20260422T132702
CREATED:20260112T095254Z
LAST-MODIFIED:20260129T153310Z
UID:4789-1767803400-1767808800@kehrig-vordereifel.de
SUMMARY:Mini-Kälber
DESCRIPTION:Training findet von September bis Fastnacht statt. \nAnsprechpartnerin Lisa Argendorf.
URL:https://kehrig-vordereifel.de/event/mini-kaelber/
LOCATION:Elztalhalle\, An St. Wolfgang\, Kehrig\, RLP\, 56729
CATEGORIES:Training
ORGANIZER;CN="Karnevalsverein Kehriger Ochsen e.V.":MAILTO:mail@karneval-kehrig.de
END:VEVENT
BEGIN:VEVENT
DTSTART;TZID=Europe/Helsinki:20251105T180000
DTEND;TZID=Europe/Helsinki:20251105T200000
DTSTAMP:20260422T132702
CREATED:20251125T193306Z
LAST-MODIFIED:20251125T202520Z
UID:4610-1762365600-1762372800@kehrig-vordereifel.de
SUMMARY:Training Badminton
DESCRIPTION:
URL:https://kehrig-vordereifel.de/event/training-badminton/
LOCATION:Elztalhalle\, An St. Wolfgang\, Kehrig\, RLP\, 56729
CATEGORIES:Training
END:VEVENT
BEGIN:VEVENT
DTSTART;TZID=Europe/Helsinki:20251126T190000
DTEND;TZID=Europe/Helsinki:20251126T200000
DTSTAMP:20260422T132702
CREATED:20251125T221645Z
LAST-MODIFIED:20251125T221645Z
UID:4673-1764183600-1764187200@kehrig-vordereifel.de
SUMMARY:Shanty Chor
DESCRIPTION:
URL:https://kehrig-vordereifel.de/event/shanty-chor/
LOCATION:Bürgerhaus\, Polcher Straße 1\, Kehrig\, 56729
CATEGORIES:Probe
END:VEVENT
BEGIN:VEVENT
DTSTART;TZID=Europe/Helsinki:20260107T200000
DTEND;TZID=Europe/Helsinki:20260107T210000
DTSTAMP:20260422T132702
CREATED:20251222T120529Z
LAST-MODIFIED:20251222T132316Z
UID:4750-1767816000-1767819600@kehrig-vordereifel.de
SUMMARY:Herrenturnen
DESCRIPTION:Ansprechpartner siehe Herrenturnen | TuS-Kehrig
URL:https://kehrig-vordereifel.de/event/herrenturnen/
LOCATION:Elztalhalle\, An St. Wolfgang\, Kehrig\, RLP\, 56729
CATEGORIES:Sport,Training
ORGANIZER;CN="TuS 1926 Kehrig e.V.":MAILTO:mail@tus-kehrig.de
END:VEVENT
BEGIN:VEVENT
DTSTART;TZID=Europe/Helsinki:20260107T210000
DTEND;TZID=Europe/Helsinki:20260107T220000
DTSTAMP:20260422T132702
CREATED:20260112T093310Z
LAST-MODIFIED:20260112T093404Z
UID:4784-1767819600-1767823200@kehrig-vordereifel.de
SUMMARY:Ochseballett
DESCRIPTION:Training findet von September bis Fastnacht statt.
URL:https://kehrig-vordereifel.de/event/ochseballett/
LOCATION:Elztalhalle\, An St. Wolfgang\, Kehrig\, RLP\, 56729
CATEGORIES:Training
ORGANIZER;CN="Karnevalsverein Kehriger Ochsen e.V.":MAILTO:mail@karneval-kehrig.de
END:VEVENT
END:VCALENDAR