BEGIN:VCALENDAR
VERSION:2.0
PRODID:-//Ortsgemeinde Kehrig - ECPv6.15.20//NONSGML v1.0//EN
CALSCALE:GREGORIAN
METHOD:PUBLISH
X-WR-CALNAME:Ortsgemeinde Kehrig
X-ORIGINAL-URL:https://kehrig-vordereifel.de
X-WR-CALDESC:Veranstaltungen für Ortsgemeinde Kehrig
REFRESH-INTERVAL;VALUE=DURATION:PT1H
X-Robots-Tag:noindex
X-PUBLISHED-TTL:PT1H
BEGIN:VTIMEZONE
TZID:Europe/Helsinki
BEGIN:DAYLIGHT
TZOFFSETFROM:+0200
TZOFFSETTO:+0300
TZNAME:EEST
DTSTART:20240331T010000
END:DAYLIGHT
BEGIN:STANDARD
TZOFFSETFROM:+0300
TZOFFSETTO:+0200
TZNAME:EET
DTSTART:20241027T010000
END:STANDARD
BEGIN:DAYLIGHT
TZOFFSETFROM:+0200
TZOFFSETTO:+0300
TZNAME:EEST
DTSTART:20250330T010000
END:DAYLIGHT
BEGIN:STANDARD
TZOFFSETFROM:+0300
TZOFFSETTO:+0200
TZNAME:EET
DTSTART:20251026T010000
END:STANDARD
BEGIN:DAYLIGHT
TZOFFSETFROM:+0200
TZOFFSETTO:+0300
TZNAME:EEST
DTSTART:20260329T010000
END:DAYLIGHT
BEGIN:STANDARD
TZOFFSETFROM:+0300
TZOFFSETTO:+0200
TZNAME:EET
DTSTART:20261025T010000
END:STANDARD
BEGIN:DAYLIGHT
TZOFFSETFROM:+0200
TZOFFSETTO:+0300
TZNAME:EEST
DTSTART:20270328T010000
END:DAYLIGHT
BEGIN:STANDARD
TZOFFSETFROM:+0300
TZOFFSETTO:+0200
TZNAME:EET
DTSTART:20271031T010000
END:STANDARD
END:VTIMEZONE
BEGIN:VEVENT
DTSTART;TZID=Europe/Helsinki:20260106T100000
DTEND;TZID=Europe/Helsinki:20260106T120000
DTSTAMP:20260421T025230
CREATED:20260112T083804Z
LAST-MODIFIED:20260112T083804Z
UID:4778-1767693600-1767700800@kehrig-vordereifel.de
SUMMARY:Grundschule
DESCRIPTION:
URL:https://kehrig-vordereifel.de/event/grundschule/
LOCATION:Elztalhalle\, An St. Wolfgang\, Kehrig\, RLP\, 56729
CATEGORIES:Sport,Training
END:VEVENT
BEGIN:VEVENT
DTSTART;TZID=Europe/Helsinki:20260106T160000
DTEND;TZID=Europe/Helsinki:20260106T170000
DTSTAMP:20260421T025230
CREATED:20251222T112516Z
LAST-MODIFIED:20251222T122847Z
UID:4740-1767715200-1767718800@kehrig-vordereifel.de
SUMMARY:Seniorinnenturnen „Topfit“
DESCRIPTION:Ansprechpartner siehe Frauenturnen | TuS-Kehrig
URL:https://kehrig-vordereifel.de/event/seniorinnenturnen-topfit/
LOCATION:Elztalhalle\, An St. Wolfgang\, Kehrig\, RLP\, 56729
CATEGORIES:Sport,Training
ORGANIZER;CN="TuS 1926 Kehrig e.V.":MAILTO:mail@tus-kehrig.de
END:VEVENT
BEGIN:VEVENT
DTSTART;TZID=Europe/Helsinki:20260108T170000
DTEND;TZID=Europe/Helsinki:20260108T193000
DTSTAMP:20260421T025230
CREATED:20251222T113203Z
LAST-MODIFIED:20251222T122703Z
UID:4742-1767891600-1767900600@kehrig-vordereifel.de
SUMMARY:Tischtennis Kinder- und Jungendtraining
DESCRIPTION:Ansprechpartner siehe Tischtennis | TuS-Kehrig
URL:https://kehrig-vordereifel.de/event/tischtennis-kinder-und-jungendtraining/
LOCATION:Elztalhalle\, An St. Wolfgang\, Kehrig\, RLP\, 56729
CATEGORIES:Sport,Training
END:VEVENT
BEGIN:VEVENT
DTSTART;TZID=Europe/Helsinki:20251125T190000
DTEND;TZID=Europe/Helsinki:20251125T200000
DTSTAMP:20260421T025230
CREATED:20251125T221535Z
LAST-MODIFIED:20251125T221535Z
UID:4670-1764097200-1764100800@kehrig-vordereifel.de
SUMMARY:Yoga
DESCRIPTION:
URL:https://kehrig-vordereifel.de/event/yoga/
LOCATION:Bürgerhaus\, Polcher Straße 1\, Kehrig\, 56729
CATEGORIES:Training
END:VEVENT
BEGIN:VEVENT
DTSTART;TZID=Europe/Helsinki:20260108T193000
DTEND;TZID=Europe/Helsinki:20260108T220000
DTSTAMP:20260421T025230
CREATED:20251222T113657Z
LAST-MODIFIED:20251222T122632Z
UID:4744-1767900600-1767909600@kehrig-vordereifel.de
SUMMARY:Tischtennis Erwachsenentraining
DESCRIPTION:Ansprechpartner siehe Tischtennis | TuS-Kehrig
URL:https://kehrig-vordereifel.de/event/tischtennis-erwachsenentraining/
LOCATION:Elztalhalle\, An St. Wolfgang\, Kehrig\, RLP\, 56729
CATEGORIES:Sport,Training
END:VEVENT
END:VCALENDAR