BEGIN:VCALENDAR
VERSION:2.0
PRODID:-//Ortsgemeinde Kehrig - ECPv6.15.20//NONSGML v1.0//EN
CALSCALE:GREGORIAN
METHOD:PUBLISH
X-WR-CALNAME:Ortsgemeinde Kehrig
X-ORIGINAL-URL:https://kehrig-vordereifel.de
X-WR-CALDESC:Veranstaltungen für Ortsgemeinde Kehrig
REFRESH-INTERVAL;VALUE=DURATION:PT1H
X-Robots-Tag:noindex
X-PUBLISHED-TTL:PT1H
BEGIN:VTIMEZONE
TZID:Europe/Helsinki
BEGIN:DAYLIGHT
TZOFFSETFROM:+0200
TZOFFSETTO:+0300
TZNAME:EEST
DTSTART:20240331T010000
END:DAYLIGHT
BEGIN:STANDARD
TZOFFSETFROM:+0300
TZOFFSETTO:+0200
TZNAME:EET
DTSTART:20241027T010000
END:STANDARD
BEGIN:DAYLIGHT
TZOFFSETFROM:+0200
TZOFFSETTO:+0300
TZNAME:EEST
DTSTART:20250330T010000
END:DAYLIGHT
BEGIN:STANDARD
TZOFFSETFROM:+0300
TZOFFSETTO:+0200
TZNAME:EET
DTSTART:20251026T010000
END:STANDARD
BEGIN:DAYLIGHT
TZOFFSETFROM:+0200
TZOFFSETTO:+0300
TZNAME:EEST
DTSTART:20260329T010000
END:DAYLIGHT
BEGIN:STANDARD
TZOFFSETFROM:+0300
TZOFFSETTO:+0200
TZNAME:EET
DTSTART:20261025T010000
END:STANDARD
BEGIN:DAYLIGHT
TZOFFSETFROM:+0200
TZOFFSETTO:+0300
TZNAME:EEST
DTSTART:20270328T010000
END:DAYLIGHT
BEGIN:STANDARD
TZOFFSETFROM:+0300
TZOFFSETTO:+0200
TZNAME:EET
DTSTART:20271031T010000
END:STANDARD
END:VTIMEZONE
BEGIN:VEVENT
DTSTART;TZID=Europe/Helsinki:20260105T090000
DTEND;TZID=Europe/Helsinki:20260105T120000
DTSTAMP:20260420T020436
CREATED:20260112T083145Z
LAST-MODIFIED:20260112T083409Z
UID:4775-1767603600-1767614400@kehrig-vordereifel.de
SUMMARY:Kindertagesstätte "Regenbogen"
DESCRIPTION:
URL:https://kehrig-vordereifel.de/event/kindertagesstaette-regenbogen/
LOCATION:Elztalhalle\, An St. Wolfgang\, Kehrig\, RLP\, 56729
CATEGORIES:Sport,Training
END:VEVENT
BEGIN:VEVENT
DTSTART;TZID=Europe/Helsinki:20251124T160000
DTEND;TZID=Europe/Helsinki:20251124T170000
DTSTAMP:20260420T020436
CREATED:20251125T221321Z
LAST-MODIFIED:20251125T221321Z
UID:4665-1764000000-1764003600@kehrig-vordereifel.de
SUMMARY:Mandolinenclub Jugendgruppe I
DESCRIPTION:
URL:https://kehrig-vordereifel.de/event/mandolinenclub-jugendgruppe-i/
LOCATION:Bürgerhaus\, Polcher Straße 1\, Kehrig\, 56729
CATEGORIES:Probe
END:VEVENT
BEGIN:VEVENT
DTSTART;TZID=Europe/Helsinki:20260105T180000
DTEND;TZID=Europe/Helsinki:20260105T190000
DTSTAMP:20260420T020436
CREATED:20260112T082319Z
LAST-MODIFIED:20260112T082759Z
UID:4772-1767636000-1767639600@kehrig-vordereifel.de
SUMMARY:Kursangebot Gymnastik
DESCRIPTION:
URL:https://kehrig-vordereifel.de/event/kursangebot-gymnastik/
LOCATION:Elztalhalle\, An St. Wolfgang\, Kehrig\, RLP\, 56729
CATEGORIES:Sport,Training
ORGANIZER;CN="TuS 1926 Kehrig e.V.":MAILTO:mail@tus-kehrig.de
END:VEVENT
BEGIN:VEVENT
DTSTART;TZID=Europe/Helsinki:20251124T180000
DTEND;TZID=Europe/Helsinki:20251124T220000
DTSTAMP:20260420T020436
CREATED:20251125T220841Z
LAST-MODIFIED:20251125T221017Z
UID:4662-1764007200-1764021600@kehrig-vordereifel.de
SUMMARY:Mandolinenclub
DESCRIPTION:
URL:https://kehrig-vordereifel.de/event/mandolinenclub/
LOCATION:Bürgerhaus\, Polcher Straße 1\, Kehrig\, 56729
CATEGORIES:Probe
END:VEVENT
BEGIN:VEVENT
DTSTART;TZID=Europe/Helsinki:20260105T193000
DTEND;TZID=Europe/Helsinki:20260105T203000
DTSTAMP:20260420T020436
CREATED:20251222T090843Z
LAST-MODIFIED:20251222T122912Z
UID:4733-1767641400-1767645000@kehrig-vordereifel.de
SUMMARY:Frauenturnen „Schnelle Turnschuhe“
DESCRIPTION:Ansprechpartner siehe Frauenturnen | TuS-Kehrig
URL:https://kehrig-vordereifel.de/event/frauenturnen-schnelle-turnschuhe/
LOCATION:Elztalhalle\, An St. Wolfgang\, Kehrig\, RLP\, 56729
CATEGORIES:Sport,Training
ORGANIZER;CN="TuS 1926 Kehrig e.V.":MAILTO:mail@tus-kehrig.de
END:VEVENT
END:VCALENDAR